BEGIN:VCALENDAR
VERSION:2.0
PRODID:-//eventon.com NONSGML v1.0//EN
CALSCALE:GREGORIAN
METHOD:PUBLISH
BEGIN:VEVENT
UID:69e74f6fe2ff3
DTSTAMP:20260421T102031Z
DTSTART:20260226T213000Z
DTEND:20260227T013000Z
LOCATION:Live Casino Pittsburgh 5260 US-30
SUMMARY:Greensburg Winter Night Market
DESCRIPTION:The Greensburg Night Market is excited to partner with Live! Ca
 sino Pittsburgh to bring 3 markets to their event space\,  The Venue Live! 
 Join us Thursday\,  March 26 from 4:40-8:30pm to shop 50+ vendors\,  grab a
  bite to eat at Sports and Social and sip on drink specials at our[..]\nhtt
 ps://downtowngreensburgpa.us/events/greensburg-winter-night-market-3/
URL:https://downtowngreensburgpa.us/events/greensburg-winter-night-market-3/
END:VEVENT
END:VCALENDAR