BEGIN:VCALENDAR
VERSION:2.0
PRODID:-//eventon.com NONSGML v1.0//EN
CALSCALE:GREGORIAN
METHOD:PUBLISH
BEGIN:VEVENT
UID:69eb9bb8eede7
DTSTAMP:20260424T163504Z
DTSTART:20250705T230000Z
DTEND:20250706T000000Z
LOCATION:St. Clair Park St Clair Park Path\,  Greensburg\,  PA 15601
SUMMARY:Summer Sparklers
DESCRIPTION:Celebrate the Fourth at our popular annual summer concert in th
 e park! Come early for an instrument petting zoo\,  perfect for kids. Bring
  a lawn chair or blanket along with family and friends and join us for clas
 sics\,  patriotic favorites\,  movie favorites\,  and our traditional final
 e –&nbsp;The 1812 Overture&nbsp;at St.[..]\nhttp://downtowngreensburgpa.u
 s/events/summer-sparklers/
URL:http://downtowngreensburgpa.us/events/summer-sparklers/
END:VEVENT
END:VCALENDAR